BEGIN:VCALENDAR
VERSION:2.0
PRODID:-//AudioTheme 2.3.8
BEGIN:VEVENT
UID:urn:uuid:25b4f3df-581d-45ed-bac8-554978ef8e33
URL:https://mitchmcvicker.com/concerts/gig-3746/
DTSTART;VALUE=DATE:19980725
SUMMARY:Solid Ground Coffeehouse
LOCATION:Solid Ground Coffeehouse\, Wichita\, KS
END:VEVENT
END:VCALENDAR
