BEGIN:VCALENDAR
VERSION:2.0
PRODID:-//AudioTheme 2.3.8
BEGIN:VEVENT
UID:urn:uuid:3007d7db-8dbd-484a-991d-ca59fd003f1b
URL:https://mitchmcvicker.com/concerts/gig-3745/
DTSTART;VALUE=DATE:19980725
SUMMARY:Better Book Room
LOCATION:Better Book Room\, Wichita\, KS
END:VEVENT
END:VCALENDAR
