BEGIN:VCALENDAR
VERSION:2.0
PRODID:-//AudioTheme 2.3.8
BEGIN:VEVENT
UID:urn:uuid:38338b2c-48fd-4125-bb0c-dd6ead08217b
URL:https://mitchmcvicker.com/concerts/gig-3741/
DTSTART;VALUE=DATE:19980724
SUMMARY:Tulsa Central Church of the Nazarene
LOCATION:Tulsa Central Church of the Nazarene\, Tulsa\, OK
END:VEVENT
END:VCALENDAR
