BEGIN:VCALENDAR
VERSION:2.0
PRODID:-//AudioTheme 2.3.8
BEGIN:VEVENT
UID:urn:uuid:287cdf0f-42b0-4ebb-9b28-e759df6308ba
URL:https://mitchmcvicker.com/concerts/gig-3739/
DTSTART;VALUE=DATE:19980723
SUMMARY:Exciting Tabernacle Baptist Church
LOCATION:Exciting Tabernacle Baptist Church\, Farmington\, NM
END:VEVENT
END:VCALENDAR
