BEGIN:VCALENDAR
VERSION:2.0
PRODID:-//AudioTheme 2.3.8
BEGIN:VEVENT
UID:urn:uuid:ecc1e39f-9301-4ab8-9e01-a47f5e808ed8
URL:https://mitchmcvicker.com/concerts/gig-3737/
DTSTART;VALUE=DATE:19980723
SUMMARY:KNMI 88.9 FM Radio Interview
LOCATION:KNMI 88.9 FM Radio Interview\, Farmington\, NM
END:VEVENT
END:VCALENDAR
