BEGIN:VCALENDAR
VERSION:2.0
PRODID:-//AudioTheme 2.3.8
BEGIN:VEVENT
UID:urn:uuid:ecc6c284-29ee-4543-bbac-3e206e5cad99
URL:https://mitchmcvicker.com/concerts/gig-3735/
DTSTART;VALUE=DATE:19980718
SUMMARY:Sherwood Forest Freewill Baptist Church
LOCATION:Sherwood Forest Freewill Baptist Church\, El Sobrante\, CA
END:VEVENT
END:VCALENDAR
