BEGIN:VCALENDAR
VERSION:2.0
PRODID:-//AudioTheme 2.3.8
BEGIN:VEVENT
UID:urn:uuid:40ec54ec-52cc-42e8-91ac-f55530e7a716
URL:https://mitchmcvicker.com/concerts/gig-3733/
DTSTART;VALUE=DATE:19980710
SUMMARY:Vanguard House of Soul
LOCATION:Vanguard House of Soul\, Colorado Springs\, CO
END:VEVENT
END:VCALENDAR
