BEGIN:VCALENDAR
VERSION:2.0
PRODID:-//AudioTheme 2.3.8
BEGIN:VEVENT
UID:urn:uuid:14664aa2-c9a3-4197-88a1-1b23dfd4b9db
URL:https://mitchmcvicker.com/concerts/gig-3730/
DTSTART;VALUE=DATE:19980708
SUMMARY:KCNW Radio Interview
LOCATION:KCNW Radio Interview\, Overland Park\, KS
END:VEVENT
END:VCALENDAR
