BEGIN:VCALENDAR
VERSION:2.0
PRODID:-//AudioTheme 2.3.8
BEGIN:VEVENT
UID:urn:uuid:4083077b-b558-4f59-b7fc-2304d7c92763
URL:https://mitchmcvicker.com/concerts/gig-3728/
DTSTART;VALUE=DATE:19980708
SUMMARY:Southwoods Christian Church
LOCATION:Southwoods Christian Church\, Overland Park\, KS
END:VEVENT
END:VCALENDAR
