BEGIN:VCALENDAR
VERSION:2.0
PRODID:-//AudioTheme 2.3.8
BEGIN:VEVENT
UID:urn:uuid:5da3ea00-f8ac-4dd5-85e2-d39579e66917
URL:https://mitchmcvicker.com/concerts/gig-3726/
DTSTART;VALUE=DATE:19980706
SUMMARY:Cedar Book Store
LOCATION:Cedar Book Store\, Waterloo\, IA
END:VEVENT
END:VCALENDAR
