BEGIN:VCALENDAR
VERSION:2.0
PRODID:-//AudioTheme 2.3.8
BEGIN:VEVENT
UID:urn:uuid:fd7baa6c-a7e9-4c71-ad39-fedc39499a53
URL:https://mitchmcvicker.com/concerts/gig-3724/
DTSTART;VALUE=DATE:19980706
SUMMARY:Waterloo Church of Christ
LOCATION:Waterloo Church of Christ\, Waterloo\, IA
END:VEVENT
END:VCALENDAR
