BEGIN:VCALENDAR
VERSION:2.0
PRODID:-//AudioTheme 2.3.8
BEGIN:VEVENT
UID:urn:uuid:6acdae93-4447-49e5-9582-6a8a73e574f0
URL:https://mitchmcvicker.com/concerts/gig-3722/
DTSTART;VALUE=DATE:19980703
SUMMARY:Cornerstone '98-Rich Mullins Tribute-Compassion Gallery Stage
LOCATION:Cornerstone '98-Rich Mullins Tribute-Compassion Gallery Stage\, Bushnell\, IL
END:VEVENT
END:VCALENDAR
