BEGIN:VCALENDAR
VERSION:2.0
PRODID:-//AudioTheme 2.3.8
BEGIN:VEVENT
UID:urn:uuid:bb6fa6d0-3142-4071-8e31-db006627d379
URL:https://mitchmcvicker.com/concerts/gig-3720/
DTSTART;VALUE=DATE:19991231
SUMMARY:First Baptist Church
LOCATION:First Baptist Church\, Indain Trail\, NC
END:VEVENT
END:VCALENDAR
