BEGIN:VCALENDAR
VERSION:2.0
PRODID:-//AudioTheme 2.3.8
BEGIN:VEVENT
UID:urn:uuid:c01c8105-7be9-42f2-ad1c-ec81b0b90084
URL:https://mitchmcvicker.com/concerts/gig-3717/
DTSTART;VALUE=DATE:19991121
SUMMARY:Elgin Community College Performing Arts Center-West Ridge Community Church
LOCATION:Elgin Community College Performing Arts Center-West Ridge Community Church\, Elgin\, IL
END:VEVENT
END:VCALENDAR
