BEGIN:VCALENDAR
VERSION:2.0
PRODID:-//AudioTheme 2.3.8
BEGIN:VEVENT
UID:urn:uuid:201e6cf2-f121-4ca1-9fbd-4029d53826ea
URL:https://mitchmcvicker.com/concerts/gig-3715/
DTSTART;VALUE=DATE:19991120
SUMMARY:"The Garden"- Outreach of Vineyard Church
LOCATION:"The Garden"- Outreach of Vineyard Church\, Evanston\, IL
END:VEVENT
END:VCALENDAR
