BEGIN:VCALENDAR
VERSION:2.0
PRODID:-//AudioTheme 2.3.8
BEGIN:VEVENT
UID:urn:uuid:7f89df3f-04d9-43aa-a381-f8f27f90305d
URL:https://mitchmcvicker.com/concerts/gig-3714/
DTSTART;VALUE=DATE:19991119
SUMMARY:Blind Munchies Coffeehouse
LOCATION:Blind Munchies Coffeehouse\, Menomonie\, WI
END:VEVENT
END:VCALENDAR
