BEGIN:VCALENDAR
VERSION:2.0
PRODID:-//AudioTheme 2.3.8
BEGIN:VEVENT
UID:urn:uuid:6ba707c1-8965-4310-827a-82964439ac53
URL:https://mitchmcvicker.com/concerts/gig-3712/
DTSTART;VALUE=DATE:19991116
SUMMARY:St Louis Christian College
LOCATION:St Louis Christian College\, Florissant\, MO
END:VEVENT
END:VCALENDAR
