BEGIN:VCALENDAR
VERSION:2.0
PRODID:-//AudioTheme 2.3.8
BEGIN:VEVENT
UID:urn:uuid:aeb10d4d-8df5-499d-90a0-d3812f29cef0
URL:https://mitchmcvicker.com/concerts/gig-3707/
DTSTART;VALUE=DATE:19991105
SUMMARY:New Cumberland Alliance Church
LOCATION:New Cumberland Alliance Church\, New Cumberland\, PA
END:VEVENT
END:VCALENDAR
