BEGIN:VCALENDAR
VERSION:2.0
PRODID:-//AudioTheme 2.3.8
BEGIN:VEVENT
UID:urn:uuid:e399fa80-f2bd-418d-b500-1d6c310dd618
URL:https://mitchmcvicker.com/concerts/gig-3705/
DTSTART;VALUE=DATE:19991030
SUMMARY:University of Illinois-Christian Campus House
LOCATION:University of Illinois-Christian Campus House\, Urbana\, IL
END:VEVENT
END:VCALENDAR
