BEGIN:VCALENDAR
VERSION:2.0
PRODID:-//AudioTheme 2.3.8
BEGIN:VEVENT
UID:urn:uuid:1e8c9cbc-bbe0-4a1c-84f4-2d0dc734fdae
URL:https://mitchmcvicker.com/concerts/gig-3703/
DTSTART;VALUE=DATE:19991029
SUMMARY:"Main Stage"-First United Methodist Church
LOCATION:"Main Stage"-First United Methodist Church\, Peoria\, IL
END:VEVENT
END:VCALENDAR
