BEGIN:VCALENDAR
VERSION:2.0
PRODID:-//AudioTheme 2.3.8
BEGIN:VEVENT
UID:urn:uuid:b35d8dc7-d5ec-4ea7-be78-dd83be52fcf2
URL:https://mitchmcvicker.com/concerts/gig-3701/
DTSTART;VALUE=DATE:19991024
SUMMARY:Peabody United Methodist Church
LOCATION:Peabody United Methodist Church\, Peabody\, KS
END:VEVENT
END:VCALENDAR
