BEGIN:VCALENDAR
VERSION:2.0
PRODID:-//AudioTheme 2.3.8
BEGIN:VEVENT
UID:urn:uuid:150f6afc-2296-470d-8e29-520f79e39fa4
URL:https://mitchmcvicker.com/concerts/gig-3698/
DTSTART;VALUE=DATE:19991022
SUMMARY:The Crossing Coffee House
LOCATION:The Crossing Coffee House\, DeSoto\, KS
END:VEVENT
END:VCALENDAR
