BEGIN:VCALENDAR
VERSION:2.0
PRODID:-//AudioTheme 2.3.8
BEGIN:VEVENT
UID:urn:uuid:727ddb65-fab2-4446-8ca3-5815d709dd72
URL:https://mitchmcvicker.com/concerts/gig-3694/
DTSTART;VALUE=DATE:19991017
SUMMARY:St John Lutheran Church
LOCATION:St John Lutheran Church\, Woodbury\, MN
END:VEVENT
END:VCALENDAR
