BEGIN:VCALENDAR
VERSION:2.0
PRODID:-//AudioTheme 2.3.8
BEGIN:VEVENT
UID:urn:uuid:23e4054d-336d-43b8-8159-120480ba7276
URL:https://mitchmcvicker.com/concerts/gig-3692/
DTSTART;VALUE=DATE:19991016
SUMMARY:St Michael's Lutheran Church
LOCATION:St Michael's Lutheran Church\, Bloomington\, MN
END:VEVENT
END:VCALENDAR
