BEGIN:VCALENDAR
VERSION:2.0
PRODID:-//AudioTheme 2.3.8
BEGIN:VEVENT
UID:urn:uuid:0f3231b0-3cff-43b8-a03e-edd9c086ca49
URL:https://mitchmcvicker.com/concerts/gig-3690/
DTSTART;VALUE=DATE:19991015
SUMMARY:Christian Life Center Church-Creator's Cafe
LOCATION:Christian Life Center Church-Creator's Cafe\, Mankato\, MN
END:VEVENT
END:VCALENDAR
