BEGIN:VCALENDAR
VERSION:2.0
PRODID:-//AudioTheme 2.3.8
BEGIN:VEVENT
UID:urn:uuid:d1727fce-fe48-442c-a9cc-ba768c1d578f
URL:https://mitchmcvicker.com/concerts/gig-3689/
DTSTART;VALUE=DATE:19991014
SUMMARY:Hillcrest Baptist Church
LOCATION:Hillcrest Baptist Church\, Sioux Falls\, SD
END:VEVENT
END:VCALENDAR
