BEGIN:VCALENDAR
VERSION:2.0
PRODID:-//AudioTheme 2.3.8
BEGIN:VEVENT
UID:urn:uuid:f105666f-3005-4339-b7a3-8ba10b51e3d3
URL:https://mitchmcvicker.com/concerts/gig-3688/
DTSTART;VALUE=DATE:19991009
SUMMARY:Grace Reformed Church
LOCATION:Grace Reformed Church\, 520 Maxwell St\, Waterloo\, IA\, USA
END:VEVENT
END:VCALENDAR
