BEGIN:VCALENDAR
VERSION:2.0
PRODID:-//AudioTheme 2.3.8
BEGIN:VEVENT
UID:urn:uuid:175b25ee-c917-41e4-b2f9-7faf7c13dc1d
URL:https://mitchmcvicker.com/concerts/gig-3686/
DTSTART;VALUE=DATE:19991008
SUMMARY:Evangelical Free Church of Crystal Lake
LOCATION:Evangelical Free Church of Crystal Lake\, Crystal Lake\, IL
END:VEVENT
END:VCALENDAR
