BEGIN:VCALENDAR
VERSION:2.0
PRODID:-//AudioTheme 2.3.8
BEGIN:VEVENT
UID:urn:uuid:2bd858eb-6a6f-41e7-81aa-163022563d6b
URL:https://mitchmcvicker.com/concerts/gig-3684/
DTSTART;VALUE=DATE:19991003
SUMMARY:First United Methodist Church
LOCATION:First United Methodist Church\, Waynesville\, NC
END:VEVENT
END:VCALENDAR
