BEGIN:VCALENDAR
VERSION:2.0
PRODID:-//AudioTheme 2.3.8
BEGIN:VEVENT
UID:urn:uuid:8a10b9d3-4adc-4e4b-8831-7fbf2eb3a1f7
URL:https://mitchmcvicker.com/concerts/gig-3681/
DTSTART;VALUE=DATE:19991001
SUMMARY:Peninsula Baptist Church
LOCATION:Peninsula Baptist Church\, Mooresville\, NC
END:VEVENT
END:VCALENDAR
