BEGIN:VCALENDAR
VERSION:2.0
PRODID:-//AudioTheme 2.3.8
BEGIN:VEVENT
UID:urn:uuid:ad513949-4b25-4dbd-a677-c60c058b3c10
URL:https://mitchmcvicker.com/concerts/gig-3680/
DTSTART;VALUE=DATE:19990930
SUMMARY:St. Francis of Assisi
LOCATION:St. Francis of Assisi\, Wichita\, KS
END:VEVENT
END:VCALENDAR
