BEGIN:VCALENDAR
VERSION:2.0
PRODID:-//AudioTheme 2.3.8
BEGIN:VEVENT
UID:urn:uuid:24f6d7c5-77c1-4097-9305-d6252b7182d1
URL:https://mitchmcvicker.com/concerts/gig-3678/
DTSTART;VALUE=DATE:19990930
SUMMARY:Better Book Room
LOCATION:Better Book Room\, Wichita\, KS
END:VEVENT
END:VCALENDAR
