BEGIN:VCALENDAR
VERSION:2.0
PRODID:-//AudioTheme 2.3.8
BEGIN:VEVENT
UID:urn:uuid:a0d2c558-015c-4837-85ac-8b708593552a
URL:https://mitchmcvicker.com/concerts/gig-3677/
DTSTART;VALUE=DATE:19990926
SUMMARY:Calvary Worship Center
LOCATION:Calvary Worship Center\, Austin\, TX
END:VEVENT
END:VCALENDAR
