BEGIN:VCALENDAR
VERSION:2.0
PRODID:-//AudioTheme 2.3.8
BEGIN:VEVENT
UID:urn:uuid:d20e72e0-2425-42a1-b7d5-6b896258d59f
URL:https://mitchmcvicker.com/concerts/gig-3675/
DTSTART;VALUE=DATE:19990925
SUMMARY:Green Acres Baptist Church
LOCATION:Green Acres Baptist Church\, Tyler\, TX
END:VEVENT
END:VCALENDAR
