BEGIN:VCALENDAR
VERSION:2.0
PRODID:-//AudioTheme 2.3.8
BEGIN:VEVENT
UID:urn:uuid:93775bc8-df81-42ae-ad89-0913e002cb22
URL:https://mitchmcvicker.com/concerts/gig-3673/
DTSTART;VALUE=DATE:19990924
SUMMARY:Park Cities Baptist Church-Fellowship Hall
LOCATION:Park Cities Baptist Church-Fellowship Hall\, Dallas\, TX
END:VEVENT
END:VCALENDAR
