BEGIN:VCALENDAR
VERSION:2.0
PRODID:-//AudioTheme 2.3.8
BEGIN:VEVENT
UID:urn:uuid:45323f05-03b9-4708-965f-3575f0ef8069
URL:https://mitchmcvicker.com/concerts/gig-3671/
DTSTART;VALUE=DATE:19990924
SUMMARY:KLTY "Morning Gang Show"-94.1 FM Interview and music
LOCATION:KLTY "Morning Gang Show"-94.1 FM Interview and music\, Dallas\, TX
END:VEVENT
END:VCALENDAR
