BEGIN:VCALENDAR
VERSION:2.0
PRODID:-//AudioTheme 2.3.8
BEGIN:VEVENT
UID:urn:uuid:4cef00cb-0850-47f6-b628-7bea3fcad9d0
URL:https://mitchmcvicker.com/concerts/gig-3669/
DTSTART;VALUE=DATE:19990923
SUMMARY:Carpenters Way Church
LOCATION:Carpenters Way Church\, Lufkin\, TX
END:VEVENT
END:VCALENDAR
