BEGIN:VCALENDAR
VERSION:2.0
PRODID:-//AudioTheme 2.3.8
BEGIN:VEVENT
UID:urn:uuid:5e6c993e-4ad3-45ec-9096-1abdef40bdf4
URL:https://mitchmcvicker.com/concerts/gig-3667/
DTSTART;VALUE=DATE:19990919
SUMMARY:Cedarville College, Jeremiah Dixon Ministry Center
LOCATION:Cedarville College\, Jeremiah Dixon Ministry Center\, Cedarville\, OH
END:VEVENT
END:VCALENDAR
