BEGIN:VCALENDAR
VERSION:2.0
PRODID:-//AudioTheme 2.3.8
BEGIN:VEVENT
UID:urn:uuid:2ede29bb-6ed8-4ab6-8634-1fd5c3c053e4
URL:https://mitchmcvicker.com/concerts/gig-3665/
DTSTART;VALUE=DATE:19990918
SUMMARY:Columbia City High School
LOCATION:Columbia City High School\, Columbia City\, IN
END:VEVENT
END:VCALENDAR
