BEGIN:VCALENDAR
VERSION:2.0
PRODID:-//AudioTheme 2.3.8
BEGIN:VEVENT
UID:urn:uuid:b72cf8ff-505e-40eb-9620-bed4db06047f
URL:https://mitchmcvicker.com/concerts/gig-3661/
DTSTART;VALUE=DATE:19990916
SUMMARY:University of Michigan Campus, Rackham Auditorium
LOCATION:University of Michigan Campus\, Rackham Auditorium\, Ann Arbor\, MI
END:VEVENT
END:VCALENDAR
