BEGIN:VCALENDAR
VERSION:2.0
PRODID:-//AudioTheme 2.3.8
BEGIN:VEVENT
UID:urn:uuid:42d10af5-c795-457e-a035-93a855314324
URL:https://mitchmcvicker.com/concerts/gig-366/
DTSTART;TZID=GMT:20180615T230000
SUMMARY:Central Baptist Church
LOCATION:Central Baptist Church\, 107 10th St SE\, Hildebran\, NC\, USA\, 28637
END:VEVENT
END:VCALENDAR
