BEGIN:VCALENDAR
VERSION:2.0
PRODID:-//AudioTheme 2.3.8
BEGIN:VEVENT
UID:urn:uuid:78bf207b-18d0-44d4-9f4f-bf183a331d8e
URL:https://mitchmcvicker.com/concerts/gig-3659/
DTSTART;VALUE=DATE:19990914
SUMMARY:Spring Arbor College, Kresge Student Union
LOCATION:Spring Arbor College\, Kresge Student Union\, Spring Arbor\, MI
END:VEVENT
END:VCALENDAR
