BEGIN:VCALENDAR
VERSION:2.0
PRODID:-//AudioTheme 2.3.8
BEGIN:VEVENT
UID:urn:uuid:6c531597-f3e4-4cce-9ca1-0330928ef68d
URL:https://mitchmcvicker.com/concerts/gig-3657/
DTSTART;VALUE=DATE:19990911
SUMMARY:Trinity Baptist Church
LOCATION:Trinity Baptist Church\, Nashua\, NH
END:VEVENT
END:VCALENDAR
