BEGIN:VCALENDAR
VERSION:2.0
PRODID:-//AudioTheme 2.3.8
BEGIN:VEVENT
UID:urn:uuid:f30e26c2-0aac-43af-8988-aacc1107ccde
URL:https://mitchmcvicker.com/concerts/gig-3655/
DTSTART;VALUE=DATE:19990907
SUMMARY:Westminster Presbyterian Church
LOCATION:Westminster Presbyterian Church\, Lubbock\, TX
END:VEVENT
END:VCALENDAR
