BEGIN:VCALENDAR
VERSION:2.0
PRODID:-//AudioTheme 2.3.8
BEGIN:VEVENT
UID:urn:uuid:5b2d375f-ab17-40a6-a1ba-ab663804cfb4
URL:https://mitchmcvicker.com/concerts/gig-3649/
DTSTART;VALUE=DATE:19990824
SUMMARY:Grace Haven
LOCATION:Grace Haven\, Ravenna\, OH
END:VEVENT
END:VCALENDAR
