BEGIN:VCALENDAR
VERSION:2.0
PRODID:-//AudioTheme 2.3.8
BEGIN:VEVENT
UID:urn:uuid:5fc94237-b5b9-461b-bb40-e94bd4db47fa
URL:https://mitchmcvicker.com/concerts/gig-3647/
DTSTART;VALUE=DATE:19990822
SUMMARY:First Presbyterian Church
LOCATION:First Presbyterian Church\, Middletown\, OH
END:VEVENT
END:VCALENDAR
