BEGIN:VCALENDAR
VERSION:2.0
PRODID:-//AudioTheme 2.3.8
BEGIN:VEVENT
UID:urn:uuid:6619ebea-d0d9-497c-bad2-3aed47b9bd90
URL:https://mitchmcvicker.com/concerts/gig-3645/
DTSTART;VALUE=DATE:19990820
SUMMARY:Parkview Baptist Church
LOCATION:Parkview Baptist Church\, Decatur\, AL
END:VEVENT
END:VCALENDAR
