BEGIN:VCALENDAR
VERSION:2.0
PRODID:-//AudioTheme 2.3.8
BEGIN:VEVENT
UID:urn:uuid:fd3e9d71-53c1-4167-b059-1035431169a7
URL:https://mitchmcvicker.com/concerts/gig-3643/
DTSTART;VALUE=DATE:19990815
SUMMARY:Indiana State Fair
LOCATION:Indiana State Fair\, Indianapolis\, IN
END:VEVENT
END:VCALENDAR
