BEGIN:VCALENDAR
VERSION:2.0
PRODID:-//AudioTheme 2.3.8
BEGIN:VEVENT
UID:urn:uuid:47680d0a-ab58-43bc-abd0-3e049b66bd93
URL:https://mitchmcvicker.com/concerts/gig-3642/
DTSTART;VALUE=DATE:19990814
SUMMARY:Lighthouse Ministries
LOCATION:Lighthouse Ministries\, West Bend\, WI
END:VEVENT
END:VCALENDAR
