BEGIN:VCALENDAR
VERSION:2.0
PRODID:-//AudioTheme 2.3.8
BEGIN:VEVENT
UID:urn:uuid:f16c1a38-3a73-4a65-be73-88e220c782d4
URL:https://mitchmcvicker.com/concerts/gig-3640/
DTSTART;VALUE=DATE:19990813
SUMMARY:Cup 'O' Joy Coffeehouse
LOCATION:Cup 'O' Joy Coffeehouse\, Green Bay\, WI
END:VEVENT
END:VCALENDAR
